<?xml version="1.0" encoding="UTF-8"?>
<Capabilities xmlns="http://www.opengis.net/wmts/1.0"
xmlns:ows="http://www.opengis.net/ows/1.1"
xmlns:xlink="http://www.w3.org/1999/xlink"
xmlns:xsi="http://www.w3.org/2001/XMLSchema-instance"
xmlns:gml="http://www.opengis.net/gml"
xsi:schemaLocation="http://www.opengis.net/wmts/1.0 http://schemas.opengis.net/wmts/1.0/wmtsGetCapabilities_response.xsd"
version="1.0.0">
<!-- Service Identification --> <ows:ServiceIdentification>
<ows:Title>BaseMap_Airphoto1994</ows:Title>
<ows:ServiceType>OGC WMTS</ows:ServiceType>
<ows:ServiceTypeVersion>1.0.0</ows:ServiceTypeVersion>
</ows:ServiceIdentification> <!-- Operations Metadata --> <ows:OperationsMetadata>
<ows:Operation name="GetCapabilities">
<ows:DCP>
<ows:HTTP>
<ows:Get xlink:href="https://external25-gis.gjcity.org/arcgis/rest/services/BaseMap/Airphoto1994/MapServer/WMTS/1.0.0/WMTSCapabilities.xml">
<ows:Constraint name="GetEncoding">
<ows:AllowedValues>
<ows:Value>RESTful</ows:Value>
</ows:AllowedValues>
</ows:Constraint>
</ows:Get>
<!-- add KVP binding in 10.1 -->
<ows:Get xlink:href="https://external25-gis.gjcity.org/arcgis/rest/services/BaseMap/Airphoto1994/MapServer/WMTS?">
<ows:Constraint name="GetEncoding">
<ows:AllowedValues>
<ows:Value>KVP</ows:Value>
</ows:AllowedValues>
</ows:Constraint>
</ows:Get>
</ows:HTTP>
</ows:DCP>
</ows:Operation>
<ows:Operation name="GetTile">
<ows:DCP>
<ows:HTTP>
<ows:Get xlink:href="https://external25-gis.gjcity.org/arcgis/rest/services/BaseMap/Airphoto1994/MapServer/WMTS/tile/1.0.0/">
<ows:Constraint name="GetEncoding">
<ows:AllowedValues>
<ows:Value>RESTful</ows:Value>
</ows:AllowedValues>
</ows:Constraint>
</ows:Get>
<ows:Get xlink:href="https://external25-gis.gjcity.org/arcgis/rest/services/BaseMap/Airphoto1994/MapServer/WMTS?">
<ows:Constraint name="GetEncoding">
<ows:AllowedValues>
<ows:Value>KVP</ows:Value>
</ows:AllowedValues>
</ows:Constraint>
</ows:Get>
</ows:HTTP>
</ows:DCP>
</ows:Operation>
</ows:OperationsMetadata> <Contents>
<!--Layer--> <Layer>
<ows:Title>BaseMap_Airphoto1994</ows:Title> <ows:Identifier>BaseMap_Airphoto1994</ows:Identifier>
<ows:BoundingBox crs="urn:ogc:def:crs:EPSG::32612">
<ows:LowerCorner>692074.5650009384 4318352.15917569</ows:LowerCorner>
<ows:UpperCorner>734085.570025209 4340980.161762593</ows:UpperCorner>
</ows:BoundingBox> <ows:WGS84BoundingBox crs="urn:ogc:def:crs:OGC:2:84">
<ows:LowerCorner>-108.78216919897466 38.98288952237216</ows:LowerCorner>
<ows:UpperCorner>-108.28974936513048 39.19686567430681</ows:UpperCorner>
</ows:WGS84BoundingBox>
<Style isDefault="true">
<ows:Title>Default Style</ows:Title>
<ows:Identifier>default</ows:Identifier>
</Style>
<Format>image/jpeg</Format>
<TileMatrixSetLink>
<TileMatrixSet>default028mm</TileMatrixSet>
</TileMatrixSetLink>
<ResourceURL format="image/jpeg" resourceType="tile" template="https://external25-gis.gjcity.org/arcgis/rest/services/BaseMap/Airphoto1994/MapServer/WMTS/tile/1.0.0/BaseMap_Airphoto1994/{Style}/{TileMatrixSet}/{TileMatrix}/{TileRow}/{TileCol}.jpg" />
</Layer> <!--TileMatrixSet-->
<TileMatrixSet>
<ows:Title>TileMatrix using 0.28mm</ows:Title>
<ows:Abstract>The tile matrix set that has scale values calculated based on the dpi defined by OGC specification (dpi assumes 0.28mm as the physical distance of a pixel).</ows:Abstract> <ows:Identifier>default028mm</ows:Identifier>
<ows:SupportedCRS>urn:ogc:def:crs:EPSG::32612</ows:SupportedCRS>
<TileMatrix>
<ows:Identifier>0</ows:Identifier>
<ScaleDenominator>6.988528210686496E7</ScaleDenominator>
<TopLeftCorner>-5682840.144469 1.0465636498631E7</TopLeftCorner> <TileWidth>256</TileWidth> <TileHeight>256</TileHeight>
<MatrixWidth>2</MatrixWidth> <MatrixHeight>2</MatrixHeight>
</TileMatrix>
<TileMatrix>
<ows:Identifier>1</ows:Identifier>
<ScaleDenominator>3.494264105343248E7</ScaleDenominator>
<TopLeftCorner>-5682840.144469 1.0465636498631E7</TopLeftCorner> <TileWidth>256</TileWidth> <TileHeight>256</TileHeight>
<MatrixWidth>3</MatrixWidth> <MatrixHeight>3</MatrixHeight>
</TileMatrix>
<TileMatrix>
<ows:Identifier>2</ows:Identifier>
<ScaleDenominator>1.7471320054245055E7</ScaleDenominator>
<TopLeftCorner>-5682840.144469 1.0465636498631E7</TopLeftCorner> <TileWidth>256</TileWidth> <TileHeight>256</TileHeight>
<MatrixWidth>6</MatrixWidth> <MatrixHeight>5</MatrixHeight>
</TileMatrix>
<TileMatrix>
<ows:Identifier>3</ows:Identifier>
<ScaleDenominator>8735659.554651344</ScaleDenominator>
<TopLeftCorner>-5682840.144469 1.0465636498631E7</TopLeftCorner> <TileWidth>256</TileWidth> <TileHeight>256</TileHeight>
<MatrixWidth>11</MatrixWidth> <MatrixHeight>10</MatrixHeight>
</TileMatrix>
<TileMatrix>
<ows:Identifier>4</ows:Identifier>
<ScaleDenominator>4367829.777325672</ScaleDenominator>
<TopLeftCorner>-5682840.144469 1.0465636498631E7</TopLeftCorner> <TileWidth>256</TileWidth> <TileHeight>256</TileHeight>
<MatrixWidth>21</MatrixWidth> <MatrixHeight>20</MatrixHeight>
</TileMatrix>
<TileMatrix>
<ows:Identifier>5</ows:Identifier>
<ScaleDenominator>2183914.888662836</ScaleDenominator>
<TopLeftCorner>-5682840.144469 1.0465636498631E7</TopLeftCorner> <TileWidth>256</TileWidth> <TileHeight>256</TileHeight>
<MatrixWidth>41</MatrixWidth> <MatrixHeight>40</MatrixHeight>
</TileMatrix>
<TileMatrix>
<ows:Identifier>6</ows:Identifier>
<ScaleDenominator>1091957.444331418</ScaleDenominator>
<TopLeftCorner>-5682840.144469 1.0465636498631E7</TopLeftCorner> <TileWidth>256</TileWidth> <TileHeight>256</TileHeight>
<MatrixWidth>82</MatrixWidth> <MatrixHeight>79</MatrixHeight>
</TileMatrix>
<TileMatrix>
<ows:Identifier>7</ows:Identifier>
<ScaleDenominator>545979.1946368921</ScaleDenominator>
<TopLeftCorner>-5682840.144469 1.0465636498631E7</TopLeftCorner> <TileWidth>256</TileWidth> <TileHeight>256</TileHeight>
<MatrixWidth>164</MatrixWidth> <MatrixHeight>158</MatrixHeight>
</TileMatrix>
<TileMatrix>
<ows:Identifier>8</ows:Identifier>
<ScaleDenominator>272989.12484726304</ScaleDenominator>
<TopLeftCorner>-5682840.144469 1.0465636498631E7</TopLeftCorner> <TileWidth>256</TileWidth> <TileHeight>256</TileHeight>
<MatrixWidth>328</MatrixWidth> <MatrixHeight>315</MatrixHeight>
</TileMatrix>
<TileMatrix>
<ows:Identifier>9</ows:Identifier>
<ScaleDenominator>136495.03489481454</ScaleDenominator>
<TopLeftCorner>-5682840.144469 1.0465636498631E7</TopLeftCorner> <TileWidth>256</TileWidth> <TileHeight>256</TileHeight>
<MatrixWidth>656</MatrixWidth> <MatrixHeight>629</MatrixHeight>
</TileMatrix>
<TileMatrix>
<ows:Identifier>10</ows:Identifier>
<ScaleDenominator>68247.51744740727</ScaleDenominator>
<TopLeftCorner>-5682840.144469 1.0465636498631E7</TopLeftCorner> <TileWidth>256</TileWidth> <TileHeight>256</TileHeight>
<MatrixWidth>1312</MatrixWidth> <MatrixHeight>1257</MatrixHeight>
</TileMatrix>
<TileMatrix>
<ows:Identifier>11</ows:Identifier>
<ScaleDenominator>34123.758723703635</ScaleDenominator>
<TopLeftCorner>-5682840.144469 1.0465636498631E7</TopLeftCorner> <TileWidth>256</TileWidth> <TileHeight>256</TileHeight>
<MatrixWidth>2624</MatrixWidth> <MatrixHeight>2514</MatrixHeight>
</TileMatrix>
<TileMatrix>
<ows:Identifier>12</ows:Identifier>
<ScaleDenominator>17061.879361851818</ScaleDenominator>
<TopLeftCorner>-5682840.144469 1.0465636498631E7</TopLeftCorner> <TileWidth>256</TileWidth> <TileHeight>256</TileHeight>
<MatrixWidth>5247</MatrixWidth> <MatrixHeight>5027</MatrixHeight>
</TileMatrix>
<TileMatrix>
<ows:Identifier>13</ows:Identifier>
<ScaleDenominator>8530.939680925909</ScaleDenominator>
<TopLeftCorner>-5682840.144469 1.0465636498631E7</TopLeftCorner> <TileWidth>256</TileWidth> <TileHeight>256</TileHeight>
<MatrixWidth>10494</MatrixWidth> <MatrixHeight>10053</MatrixHeight>
</TileMatrix>
<TileMatrix>
<ows:Identifier>14</ows:Identifier>
<ScaleDenominator>4265.469840462954</ScaleDenominator>
<TopLeftCorner>-5682840.144469 1.0465636498631E7</TopLeftCorner> <TileWidth>256</TileWidth> <TileHeight>256</TileHeight>
<MatrixWidth>20988</MatrixWidth> <MatrixHeight>20106</MatrixHeight>
</TileMatrix>
<TileMatrix>
<ows:Identifier>15</ows:Identifier>
<ScaleDenominator>2132.734920231477</ScaleDenominator>
<TopLeftCorner>-5682840.144469 1.0465636498631E7</TopLeftCorner> <TileWidth>256</TileWidth> <TileHeight>256</TileHeight>
<MatrixWidth>41976</MatrixWidth> <MatrixHeight>40212</MatrixHeight>
</TileMatrix>
<TileMatrix>
<ows:Identifier>16</ows:Identifier>
<ScaleDenominator>1065.894988932701</ScaleDenominator>
<TopLeftCorner>-5682840.144469 1.0465636498631E7</TopLeftCorner> <TileWidth>256</TileWidth> <TileHeight>256</TileHeight>
<MatrixWidth>83988</MatrixWidth> <MatrixHeight>80459</MatrixHeight>
</TileMatrix>
<TileMatrix>
<ows:Identifier>17</ows:Identifier>
<ScaleDenominator>532.9474944663505</ScaleDenominator>
<TopLeftCorner>-5682840.144469 1.0465636498631E7</TopLeftCorner> <TileWidth>256</TileWidth> <TileHeight>256</TileHeight>
<MatrixWidth>167975</MatrixWidth> <MatrixHeight>160917</MatrixHeight>
</TileMatrix>
<TileMatrix>
<ows:Identifier>18</ows:Identifier>
<ScaleDenominator>266.47374723317523</ScaleDenominator>
<TopLeftCorner>-5682840.144469 1.0465636498631E7</TopLeftCorner> <TileWidth>256</TileWidth> <TileHeight>256</TileHeight>
<MatrixWidth>335950</MatrixWidth> <MatrixHeight>321834</MatrixHeight>
</TileMatrix>
<TileMatrix>
<ows:Identifier>19</ows:Identifier>
<ScaleDenominator>133.23687361658762</ScaleDenominator>
<TopLeftCorner>-5682840.144469 1.0465636498631E7</TopLeftCorner> <TileWidth>256</TileWidth> <TileHeight>256</TileHeight>
<MatrixWidth>671900</MatrixWidth> <MatrixHeight>643667</MatrixHeight>
</TileMatrix>
</TileMatrixSet>
</Contents>
<ServiceMetadataURL xlink:href="https://external25-gis.gjcity.org/arcgis/rest/services/BaseMap/Airphoto1994/MapServer/WMTS/1.0.0/WMTSCapabilities.xml" /> </Capabilities>
