{
 "documentInfo": {
  "Category": "",
  "Keywords": "",
  "Version": "3.7.0",
  "Comments": "",
  "AntialiasingMode": "Fast",
  "Title": "Map",
  "Author": "",
  "TextAntialiasingMode": "Force",
  "Subject": ""
 },
 "maxImageWidth": 4096,
 "wmtsScaleFactor": 0.00028000000000003521,
 "maxRecordCount": 2000,
 "tileInfo": {
  "lods": [
   {
    "level": 0,
    "scale": 73957190,
    "resolution": 19567.878989924648
   },
   {
    "level": 1,
    "scale": 36978595,
    "resolution": 9783.9394949623238
   },
   {
    "level": 2,
    "scale": 18489297,
    "resolution": 4891.9696151892304
   },
   {
    "level": 3,
    "scale": 9244648,
    "resolution": 2445.9846753026841
   },
   {
    "level": 4,
    "scale": 4622324,
    "resolution": 1222.992337651342
   },
   {
    "level": 5,
    "scale": 2311162,
    "resolution": 611.49616882567102
   },
   {
    "level": 6,
    "scale": 1155581,
    "resolution": 305.74808441283551
   },
   {
    "level": 7,
    "scale": 577791,
    "resolution": 152.87417449834899
   },
   {
    "level": 8,
    "scale": 288895,
    "resolution": 76.436954957243259
   },
   {
    "level": 9,
    "scale": 144448,
    "resolution": 38.218609770552874
   },
   {
    "level": 10,
    "scale": 72224,
    "resolution": 19.109304885276437
   },
   {
    "level": 11,
    "scale": 36112,
    "resolution": 9.5546524426382184
   },
   {
    "level": 12,
    "scale": 18056,
    "resolution": 4.7773262213191092
   },
   {
    "level": 13,
    "scale": 9028,
    "resolution": 2.3886631106595546
   },
   {
    "level": 14,
    "scale": 4514,
    "resolution": 1.1943315553297773
   },
   {
    "level": 15,
    "scale": 2257,
    "resolution": 0.59716577766488865
   },
   {
    "level": 16,
    "scale": 1128,
    "resolution": 0.2984505969011938
   },
   {
    "level": 17,
    "scale": 564,
    "resolution": 0.1492252984505969
   },
   {
    "level": 18,
    "scale": 282,
    "resolution": 0.07461264922529845
   },
   {
    "level": 19,
    "scale": 141,
    "resolution": 0.037306324612649225
   }
  ],
  "origin": {
   "x": -5682840.1444690004,
   "y": 10465636.498631001
  },
  "format": "JPEG",
  "compressionQuality": 55,
  "rows": 256,
  "dpi": 96,
  "spatialReference": {
   "falseM": -100000,
   "xyTolerance": 0.001,
   "mUnits": 10000,
   "zUnits": 10000,
   "latestWkid": 32612,
   "zTolerance": 0.001,
   "wkid": 32612,
   "xyUnits": 10000,
   "mTolerance": 0.001,
   "falseX": -5120900,
   "falseY": -9998100,
   "falseZ": -100000
  },
  "cols": 256
 },
 "description": "",
 "datesInUnknownTimezone": false,
 "supportsQueryDomains": true,
 "units": "esriMeters",
 "maxSelectionCount": 2000,
 "supportedImageFormatTypes": "PNG32,PNG24,PNG,JPG,DIB,TIFF,EMF,PS,PDF,GIF,SVG,SVGZ,BMP",
 "supportsClipping": true,
 "exportTilesAllowed": false,
 "maxImageHeight": 4096,
 "tables": [],
 "hasVersionedData": false,
 "supportsDatumTransformation": true,
 "cimVersion": "3.7.0",
 "supportsQueryDataElements": true,
 "layers": [
  {
   "subLayerIds": [
    1,
    2,
    3
   ],
   "maxScale": 0,
   "name": "county2003",
   "defaultVisibility": true,
   "id": 0,
   "minScale": 0,
   "supportsDynamicLegends": false,
   "type": "Mosaic Layer",
   "parentLayerId": -1
  },
  {
   "subLayerIds": null,
   "maxScale": 0,
   "name": "Boundary",
   "defaultVisibility": false,
   "id": 1,
   "minScale": 0,
   "supportsDynamicLegends": true,
   "type": "Feature Layer",
   "parentLayerId": 0,
   "geometryType": "esriGeometryPolygon"
  },
  {
   "subLayerIds": null,
   "maxScale": 0,
   "name": "Footprint",
   "defaultVisibility": false,
   "id": 2,
   "minScale": 0,
   "supportsDynamicLegends": true,
   "type": "Feature Layer",
   "parentLayerId": 0,
   "geometryType": "esriGeometryPolygon"
  },
  {
   "subLayerIds": null,
   "maxScale": 0,
   "name": "Image",
   "defaultVisibility": true,
   "id": 3,
   "minScale": 0,
   "supportsDynamicLegends": true,
   "type": "Raster Layer",
   "parentLayerId": 0
  }
 ],
 "mapName": "Airphoto2003",
 "minScale": 73957190,
 "archivingInfo": {
  "supportsHistoricMoment": false
 },
 "spatialReference": {
  "falseM": -100000,
  "xyTolerance": 0.001,
  "mUnits": 10000,
  "zUnits": 10000,
  "latestWkid": 32612,
  "zTolerance": 0.001,
  "wkid": 32612,
  "xyUnits": 10000,
  "mTolerance": 0.001,
  "falseX": -5120900,
  "falseY": -9998100,
  "falseZ": -100000
 },
 "tileImageInfo": {
  "bandCount": 1,
  "lercError": 0,
  "format": "JPEG",
  "compressionQuality": 55
 },
 "fullExtent": {
  "ymin": 4255720.7802122328,
  "xmin": 661002.06430091592,
  "ymax": 4372121.6321512638,
  "xmax": 818240.66280737612,
  "spatialReference": {
   "falseM": -100000,
   "xyTolerance": 0.001,
   "mUnits": 10000,
   "zUnits": 10000,
   "latestWkid": 32612,
   "zTolerance": 0.001,
   "wkid": 32612,
   "xyUnits": 10000,
   "mTolerance": 0.001,
   "falseX": -5120900,
   "falseY": -9998100,
   "falseZ": -100000
  }
 },
 "supportedExtensions": "",
 "serviceItemId": "9c7642c0061e46b1b8ca07b634f68830",
 "capabilities": "Query,Map,Data",
 "supportsDynamicLayers": true,
 "maxScale": 282,
 "singleFusedMapCache": true,
 "currentVersion": 12.1,
 "storageInfo": {
  "storageFormat": "esriMapCacheStorageModeCompactV2",
  "packetSize": 128
 },
 "hasBranchVersionedData": false,
 "mapUnits": {
  "uwkid": 9001
 },
 "referenceScale": 0,
 "supportsSpatialFilter": true,
 "supportedQueryFormats": "JSON, geoJSON, PBF",
 "datumTransformations": [
  {
   "geoTransforms": [
    {
     "latestWkid": 1900,
     "transformForward": true,
     "wkid": 1900,
     "name": "NAD_1983_HARN_To_WGS_1984_2"
    }
   ]
  },
  {
   "geoTransforms": [
    {
     "latestWkid": 1900,
     "transformForward": false,
     "wkid": 1900,
     "name": "NAD_1983_HARN_To_WGS_1984_2"
    }
   ]
  }
 ],
 "initialExtent": {
  "ymin": 4169481.5806671777,
  "xmin": 653140.13437559688,
  "ymax": 4458360.8316963101,
  "xmax": 826102.59273269214,
  "spatialReference": {
   "falseM": -100000,
   "xyTolerance": 0.001,
   "mUnits": 10000,
   "zUnits": 10000,
   "latestWkid": 32612,
   "zTolerance": 0.001,
   "wkid": 32612,
   "xyUnits": 10000,
   "mTolerance": 0.001,
   "falseX": -5120900,
   "falseY": -9998100,
   "falseZ": -100000
  }
 },
 "serviceDescription": "",
 "copyrightText": "",
 "supportsTimeRelation": true
}
