{
 "extent": {
  "ymin": 4087740,
  "xmin": 327280,
  "ymax": 4573770,
  "xmax": 678420,
  "spatialReference": {
   "latestWkid": 26912,
   "wkid": 26912
  }
 },
 "blockWidth": 2048,
 "mosaicOperator": "First",
 "serviceSourceType": "esriImageServiceSourceTypeMosaicDataset",
 "hasMultidimensions": false,
 "maxImageWidth": 15000,
 "maxRecordCount": 1000,
 "meanValues": [
  80.935123879028566,
  91.90565466021107,
  75.285344043942729,
  97.589771196111172
 ],
 "hasColormap": false,
 "compressionType": "None",
 "defaultCompressionQuality": 75,
 "maxValues": [
  237,
  237,
  234,
  208
 ],
 "hasHistograms": true,
 "datasetFormat": "AMD",
 "maxImageHeight": 4100,
 "sortField": "",
 "bandNames": [
  "Band_1",
  "Band_2",
  "Band_3",
  "Band_4"
 ],
 "spatialReference": {
  "latestWkid": 26912,
  "wkid": 26912
 },
 "fullExtent": {
  "ymin": 4087740,
  "xmin": 327280,
  "ymax": 4573770,
  "xmax": 678420,
  "spatialReference": {
   "latestWkid": 26912,
   "wkid": 26912
  }
 },
 "bandCount": 4,
 "rasterFunctionInfos": [
  {
   "help": "",
   "name": "None",
   "description": ""
  }
 ],
 "supportsStatistics": true,
 "sortableFields": "MinPS,MaxPS,LowPS,HighPS,CenterX,CenterY,ZOrder,Shape_Length,Shape_Area",
 "minValues": [
  3,
  3,
  8,
  0
 ],
 "allowRasterFunction": true,
 "allowComputeTiePoints": false,
 "serviceDataType": "esriImageServiceDataTypeGeneric",
 "supportsAdvancedQueries": true,
 "maxDownloadSizeLimit": 2048,
 "currentVersion": 12.1,
 "sortValue": null,
 "objectIdField": "OBJECTID",
 "blockHeight": 256,
 "initialExtent": {
  "ymin": 4087740,
  "xmin": 327280,
  "ymax": 4573770,
  "xmax": 678420,
  "spatialReference": {
   "latestWkid": 26912,
   "wkid": 26912
  }
 },
 "pixelSizeX": 1,
 "pixelSizeY": 1,
 "defaultMosaicMethod": "Northwest",
 "name": "ImageServices/2011naip",
 "allowedMosaicMethods": "NorthWest,Center,LockRaster,ByAttribute,Nadir,Viewpoint,Seamline,None",
 "maxDownloadImageCount": 20,
 "fields": [
  {
   "domain": null,
   "name": "OBJECTID",
   "alias": "OBJECTID",
   "type": "esriFieldTypeOID"
  },
  {
   "domain": null,
   "name": "Shape",
   "alias": "Shape",
   "type": "esriFieldTypeGeometry"
  },
  {
   "domain": null,
   "name": "Name",
   "length": 50,
   "alias": "Name",
   "type": "esriFieldTypeString"
  },
  {
   "domain": null,
   "name": "MinPS",
   "alias": "MinPS",
   "type": "esriFieldTypeDouble"
  },
  {
   "domain": null,
   "name": "MaxPS",
   "alias": "MaxPS",
   "type": "esriFieldTypeDouble"
  },
  {
   "domain": null,
   "name": "LowPS",
   "alias": "LowPS",
   "type": "esriFieldTypeDouble"
  },
  {
   "domain": null,
   "name": "HighPS",
   "alias": "HighPS",
   "type": "esriFieldTypeDouble"
  },
  {
   "domain": {
    "splitPolicy": "esriSPTDefaultValue",
    "name": "MosaicCatalogItemCategoryDomain",
    "description": "Catalog item categories.",
    "type": "codedValue",
    "codedValues": [
     {
      "code": 0,
      "name": "Unknown"
     },
     {
      "code": 1,
      "name": "Primary"
     },
     {
      "code": 2,
      "name": "Overview"
     },
     {
      "code": 3,
      "name": "Unprocessed Overview"
     },
     {
      "code": 4,
      "name": "Partial Overview"
     },
     {
      "code": 253,
      "name": "Uploaded"
     },
     {
      "code": 254,
      "name": "Incomplete"
     },
     {
      "code": 255,
      "name": "Custom"
     }
    ],
    "mergePolicy": "esriMPTDefaultValue"
   },
   "name": "Category",
   "alias": "Category",
   "type": "esriFieldTypeInteger"
  },
  {
   "domain": null,
   "name": "Tag",
   "length": 20,
   "alias": "Tag",
   "type": "esriFieldTypeString"
  },
  {
   "domain": null,
   "name": "GroupName",
   "length": 50,
   "alias": "GroupName",
   "type": "esriFieldTypeString"
  },
  {
   "domain": null,
   "name": "ProductName",
   "length": 50,
   "alias": "ProductName",
   "type": "esriFieldTypeString"
  },
  {
   "domain": null,
   "name": "CenterX",
   "alias": "CenterX",
   "type": "esriFieldTypeDouble"
  },
  {
   "domain": null,
   "name": "CenterY",
   "alias": "CenterY",
   "type": "esriFieldTypeDouble"
  },
  {
   "domain": null,
   "name": "ZOrder",
   "alias": "ZOrder",
   "type": "esriFieldTypeInteger"
  },
  {
   "domain": null,
   "name": "Shape_Length",
   "alias": "Shape_Length",
   "type": "esriFieldTypeDouble"
  },
  {
   "domain": null,
   "name": "Shape_Area",
   "alias": "Shape_Area",
   "type": "esriFieldTypeDouble"
  }
 ],
 "allowAnalysis": true,
 "hasRasterAttributeTable": false,
 "useStandardizedQueries": true,
 "description": "",
 "pixelType": "U8",
 "meanPixelSize": 1,
 "exportTilesAllowed": false,
 "editFieldsInfo": null,
 "rasterTypeInfos": [
  {
   "help": "",
   "name": "Raster Dataset",
   "description": "Supports all ArcGIS Raster Datasets"
  }
 ],
 "defaultResamplingMethod": "Bilinear",
 "itemAccess": false,
 "minScale": 0,
 "serviceProperties": "NorthWest<\/MosaicMethod>First<\/MosaicOperator>true<\/SortAscending><\/LockImageID>Name<\/TileOrderField>0<\/TileOrderBase>600.000000<\/AvgImageSpacingX>300.000000<\/AvgImageSpacingY>0.0<\/ViewPointX>0.0<\/ViewPointY>0.0<\/ViewPointDefShiftX>0.0<\/ViewPointDefShiftY>None<\/CompressionMethod>75<\/CompressionQuality>0.010000<\/CompressionTolerance>Bilinear<\/SamplingMethod><\/ImageServiceProperties><\/ImageServer>",
 "advancedQueryCapabilities": {
  "supportsStatistics": true,
  "supportsSqlExpression": true,
  "supportsOrderBy": true,
  "useStandardizedQueries": true,
  "supportsPagination": true,
  "supportsDistinct": true
 },
 "serviceItemId": "f18dfab63fa94922a2127368a9fd1a11",
 "capabilities": "Image,Metadata,Mensuration,Catalog",
 "maxScale": 0,
 "stdvValues": [
  45.037342807110981,
  37.098555752952414,
  32.787546428142647,
  33.035819615589652
 ],
 "allowedFields": "Name,MinPS,MaxPS,LowPS,HighPS,Tag,GroupName,ProductName,CenterX,CenterY,ZOrder,Shape_Length,Shape_Area",
 "minPixelSize": 0,
 "sortAscending": true,
 "maxMosaicImageCount": 20,
 "inspectionCapabilities": "",
 "maxPixelSize": 0,
 "allowedCompressions": "None,JPEG,LZ77,LERC",
 "uncompressedSize": 682658296800,
 "serviceDescription": "ImageServices/2011naip",
 "allowCopy": true,
 "copyrightText": "",
 "mensurationCapabilities": "Basic",
 "ownershipBasedAccessControlForRasters": null
}
