{
 "extent": {
  "ymin": 4263069.951200122,
  "xmin": 667888.63000000175,
  "ymax": 4363514.5051999949,
  "xmax": 812359.71519981837,
  "spatialReference": {
   "latestWkid": 26912,
   "wkid": 26912
  }
 },
 "blockWidth": 2048,
 "mosaicOperator": "First",
 "serviceSourceType": "esriImageServiceSourceTypeMosaicDataset",
 "hasMultidimensions": false,
 "maxImageWidth": 15000,
 "maxRecordCount": 1000,
 "meanValues": [
  175.65257689678839,
  165.92166780587695,
  148.40352092352362
 ],
 "hasColormap": false,
 "compressionType": "None",
 "defaultCompressionQuality": 75,
 "maxValues": [
  251,
  243,
  231
 ],
 "hasHistograms": true,
 "datasetFormat": "AMD",
 "maxImageHeight": 4100,
 "sortField": "",
 "bandNames": [
  "Band_1",
  "Band_2",
  "Band_3"
 ],
 "spatialReference": {
  "latestWkid": 26912,
  "wkid": 26912
 },
 "fullExtent": {
  "ymin": 4263069.951200122,
  "xmin": 667888.63000000175,
  "ymax": 4363514.5051999949,
  "xmax": 812359.71519981837,
  "spatialReference": {
   "latestWkid": 26912,
   "wkid": 26912
  }
 },
 "bandCount": 3,
 "rasterFunctionInfos": [
  {
   "help": "",
   "name": "None",
   "description": "A No-Op Function."
  }
 ],
 "supportsStatistics": true,
 "sortableFields": "MinPS,MaxPS,LowPS,HighPS,CenterX,CenterY,ZOrder,Shape_Length,Shape_Area",
 "minValues": [
  0,
  0,
  0
 ],
 "allowRasterFunction": true,
 "allowComputeTiePoints": false,
 "serviceDataType": "esriImageServiceDataTypeRGB",
 "supportsAdvancedQueries": true,
 "maxDownloadSizeLimit": 2048,
 "currentVersion": 12.1,
 "sortValue": null,
 "objectIdField": "OBJECTID",
 "blockHeight": 256,
 "initialExtent": {
  "ymin": 4263069.951200122,
  "xmin": 667888.63000000175,
  "ymax": 4363514.5051999949,
  "xmax": 812359.71519981837,
  "spatialReference": {
   "latestWkid": 26912,
   "wkid": 26912
  }
 },
 "pixelSizeX": 0.15239999999980655,
 "pixelSizeY": 0.15239999999980713,
 "defaultMosaicMethod": "Northwest",
 "name": "ImageServices/2019county",
 "allowedMosaicMethods": "NorthWest,Center,LockRaster,ByAttribute,Nadir,Viewpoint,Seamline,None",
 "maxDownloadImageCount": 20,
 "fields": [
  {
   "domain": null,
   "name": "OBJECTID",
   "alias": "OBJECTID",
   "type": "esriFieldTypeOID"
  },
  {
   "domain": null,
   "name": "Shape",
   "alias": "Shape",
   "type": "esriFieldTypeGeometry"
  },
  {
   "domain": null,
   "name": "Name",
   "length": 200,
   "alias": "Name",
   "type": "esriFieldTypeString"
  },
  {
   "domain": null,
   "name": "MinPS",
   "alias": "MinPS",
   "type": "esriFieldTypeDouble"
  },
  {
   "domain": null,
   "name": "MaxPS",
   "alias": "MaxPS",
   "type": "esriFieldTypeDouble"
  },
  {
   "domain": null,
   "name": "LowPS",
   "alias": "LowPS",
   "type": "esriFieldTypeDouble"
  },
  {
   "domain": null,
   "name": "HighPS",
   "alias": "HighPS",
   "type": "esriFieldTypeDouble"
  },
  {
   "domain": {
    "splitPolicy": "esriSPTDefaultValue",
    "name": "MosaicCatalogItemCategoryDomain",
    "description": "Catalog item categories.",
    "type": "codedValue",
    "codedValues": [
     {
      "code": 0,
      "name": "Unknown"
     },
     {
      "code": 1,
      "name": "Primary"
     },
     {
      "code": 2,
      "name": "Overview"
     },
     {
      "code": 3,
      "name": "Unprocessed Overview"
     },
     {
      "code": 4,
      "name": "Partial Overview"
     },
     {
      "code": 5,
      "name": "Inactive"
     },
     {
      "code": 253,
      "name": "Uploaded"
     },
     {
      "code": 254,
      "name": "Incomplete"
     },
     {
      "code": 255,
      "name": "Custom"
     }
    ],
    "mergePolicy": "esriMPTDefaultValue"
   },
   "name": "Category",
   "alias": "Category",
   "type": "esriFieldTypeInteger"
  },
  {
   "domain": null,
   "name": "Tag",
   "length": 100,
   "alias": "Tag",
   "type": "esriFieldTypeString"
  },
  {
   "domain": null,
   "name": "GroupName",
   "length": 100,
   "alias": "GroupName",
   "type": "esriFieldTypeString"
  },
  {
   "domain": null,
   "name": "ProductName",
   "length": 100,
   "alias": "ProductName",
   "type": "esriFieldTypeString"
  },
  {
   "domain": null,
   "name": "CenterX",
   "alias": "CenterX",
   "type": "esriFieldTypeDouble"
  },
  {
   "domain": null,
   "name": "CenterY",
   "alias": "CenterY",
   "type": "esriFieldTypeDouble"
  },
  {
   "domain": null,
   "name": "ZOrder",
   "alias": "ZOrder",
   "type": "esriFieldTypeInteger"
  },
  {
   "domain": null,
   "name": "Shape_Length",
   "alias": "Shape_Length",
   "type": "esriFieldTypeDouble"
  },
  {
   "domain": null,
   "name": "Shape_Area",
   "alias": "Shape_Area",
   "type": "esriFieldTypeDouble"
  }
 ],
 "allowAnalysis": true,
 "hasRasterAttributeTable": false,
 "useStandardizedQueries": true,
 "description": "",
 "pixelType": "U8",
 "meanPixelSize": 0.15239999999980686,
 "exportTilesAllowed": false,
 "editFieldsInfo": null,
 "rasterTypeInfos": [
  {
   "help": "",
   "name": "Raster Dataset",
   "description": "Supports all ArcGIS Raster Datasets"
  }
 ],
 "defaultResamplingMethod": "Bilinear",
 "itemAccess": false,
 "minScale": 0,
 "serviceProperties": "NorthWest<\/MosaicMethod>First<\/MosaicOperator>true<\/SortAscending><\/LockImageID>Name<\/TileOrderField>0<\/TileOrderBase>600.000000<\/AvgImageSpacingX>300.000000<\/AvgImageSpacingY>0.0<\/ViewPointX>0.0<\/ViewPointY>0.0<\/ViewPointDefShiftX>0.0<\/ViewPointDefShiftY>None<\/CompressionMethod>75<\/CompressionQuality>0.010000<\/CompressionTolerance>Bilinear<\/SamplingMethod><\/ImageServiceProperties><\/ImageServer>",
 "advancedQueryCapabilities": {
  "supportsStatistics": true,
  "supportsSqlExpression": true,
  "supportsOrderBy": true,
  "useStandardizedQueries": true,
  "supportsPagination": true,
  "supportsDistinct": true
 },
 "serviceItemId": "f83bf5f42b074e4c8281f50514a5bfb8",
 "capabilities": "Image,Metadata,Mensuration,Catalog",
 "maxScale": 0,
 "stdvValues": [
  27.110897887002018,
  26.147917744500045,
  24.344234866109616
 ],
 "allowedFields": "Name,MinPS,MaxPS,LowPS,HighPS,Tag,GroupName,ProductName,CenterX,CenterY,ZOrder,Shape_Length,Shape_Area",
 "minPixelSize": 0,
 "sortAscending": true,
 "maxMosaicImageCount": 100,
 "inspectionCapabilities": "",
 "maxPixelSize": 0,
 "allowedCompressions": "None,JPEG,LZ77,LERC",
 "uncompressedSize": 1874384354115,
 "serviceDescription": "ImageServices/2019county",
 "allowCopy": true,
 "copyrightText": "",
 "mensurationCapabilities": "Basic",
 "ownershipBasedAccessControlForRasters": null
}
