{
 "extent": {
  "ymin": 4087854.6853000033,
  "xmin": 327394.98919999972,
  "ymax": 4573656.6853,
  "xmax": 996003.18919999537,
  "spatialReference": {
   "latestWkid": 3742,
   "wkid": 102206
  }
 },
 "blockWidth": 2048,
 "mosaicOperator": "First",
 "serviceSourceType": "esriImageServiceSourceTypeMosaicDataset",
 "hasMultidimensions": false,
 "maxImageWidth": 15000,
 "maxRecordCount": 1000,
 "meanValues": [
  115.62126797689893,
  113.10529765535084,
  98.052331567762636
 ],
 "hasColormap": false,
 "compressionType": "None",
 "defaultCompressionQuality": 75,
 "maxValues": [
  255,
  255,
  255
 ],
 "hasHistograms": true,
 "datasetFormat": "AMD",
 "maxImageHeight": 4100,
 "sortField": "",
 "bandNames": [
  "Band_1",
  "Band_2",
  "Band_3"
 ],
 "spatialReference": {
  "latestWkid": 3742,
  "wkid": 102206
 },
 "fullExtent": {
  "ymin": 4087854.6853000033,
  "xmin": 327394.98919999972,
  "ymax": 4573656.6853,
  "xmax": 996003.18919999537,
  "spatialReference": {
   "latestWkid": 3742,
   "wkid": 102206
  }
 },
 "bandCount": 3,
 "rasterFunctionInfos": [
  {
   "help": "",
   "name": "None",
   "description": "Make a Raster or Raster Dataset into a Function Raster Dataset."
  }
 ],
 "supportsStatistics": true,
 "sortableFields": "MinPS,MaxPS,LowPS,HighPS,CenterX,CenterY,ZOrder,Shape_Length,Shape_Area",
 "minValues": [
  0,
  0,
  0
 ],
 "allowRasterFunction": true,
 "allowComputeTiePoints": false,
 "serviceDataType": "esriImageServiceDataTypeRGB",
 "supportsAdvancedQueries": true,
 "maxDownloadSizeLimit": 2048,
 "currentVersion": 12.1,
 "sortValue": null,
 "objectIdField": "OBJECTID",
 "blockHeight": 256,
 "initialExtent": {
  "ymin": 4087854.6853000033,
  "xmin": 327394.98919999972,
  "ymax": 4573656.6853,
  "xmax": 996003.18919999537,
  "spatialReference": {
   "latestWkid": 3742,
   "wkid": 102206
  }
 },
 "pixelSizeX": 0.59999999999999609,
 "pixelSizeY": 0.59999999999999598,
 "defaultMosaicMethod": "Northwest",
 "name": "ImageServices/2021naip",
 "allowedMosaicMethods": "NorthWest,Center,LockRaster,ByAttribute,Nadir,Viewpoint,Seamline,None",
 "maxDownloadImageCount": 20,
 "fields": [
  {
   "domain": null,
   "name": "OBJECTID",
   "alias": "OBJECTID",
   "type": "esriFieldTypeOID"
  },
  {
   "domain": null,
   "name": "Shape",
   "alias": "Shape",
   "type": "esriFieldTypeGeometry"
  },
  {
   "domain": null,
   "name": "Name",
   "length": 200,
   "alias": "Name",
   "type": "esriFieldTypeString"
  },
  {
   "domain": null,
   "name": "MinPS",
   "alias": "MinPS",
   "type": "esriFieldTypeDouble"
  },
  {
   "domain": null,
   "name": "MaxPS",
   "alias": "MaxPS",
   "type": "esriFieldTypeDouble"
  },
  {
   "domain": null,
   "name": "LowPS",
   "alias": "LowPS",
   "type": "esriFieldTypeDouble"
  },
  {
   "domain": null,
   "name": "HighPS",
   "alias": "HighPS",
   "type": "esriFieldTypeDouble"
  },
  {
   "domain": {
    "splitPolicy": "esriSPTDefaultValue",
    "name": "MosaicCatalogItemCategoryDomain",
    "description": "Catalog item categories.",
    "type": "codedValue",
    "codedValues": [
     {
      "code": 0,
      "name": "Unknown"
     },
     {
      "code": 1,
      "name": "Primary"
     },
     {
      "code": 2,
      "name": "Overview"
     },
     {
      "code": 3,
      "name": "Unprocessed Overview"
     },
     {
      "code": 4,
      "name": "Partial Overview"
     },
     {
      "code": 5,
      "name": "Inactive"
     },
     {
      "code": 253,
      "name": "Uploaded"
     },
     {
      "code": 254,
      "name": "Incomplete"
     },
     {
      "code": 255,
      "name": "Custom"
     }
    ],
    "mergePolicy": "esriMPTDefaultValue"
   },
   "name": "Category",
   "alias": "Category",
   "type": "esriFieldTypeInteger"
  },
  {
   "domain": null,
   "name": "Tag",
   "length": 100,
   "alias": "Tag",
   "type": "esriFieldTypeString"
  },
  {
   "domain": null,
   "name": "GroupName",
   "length": 100,
   "alias": "GroupName",
   "type": "esriFieldTypeString"
  },
  {
   "domain": null,
   "name": "ProductName",
   "length": 100,
   "alias": "ProductName",
   "type": "esriFieldTypeString"
  },
  {
   "domain": null,
   "name": "CenterX",
   "alias": "CenterX",
   "type": "esriFieldTypeDouble"
  },
  {
   "domain": null,
   "name": "CenterY",
   "alias": "CenterY",
   "type": "esriFieldTypeDouble"
  },
  {
   "domain": null,
   "name": "ZOrder",
   "alias": "ZOrder",
   "type": "esriFieldTypeInteger"
  },
  {
   "domain": null,
   "name": "Shape_Length",
   "alias": "Shape_Length",
   "type": "esriFieldTypeDouble"
  },
  {
   "domain": null,
   "name": "Shape_Area",
   "alias": "Shape_Area",
   "type": "esriFieldTypeDouble"
  }
 ],
 "allowAnalysis": true,
 "hasRasterAttributeTable": false,
 "useStandardizedQueries": true,
 "description": "",
 "pixelType": "U8",
 "meanPixelSize": 0.59999999999999609,
 "exportTilesAllowed": false,
 "editFieldsInfo": null,
 "rasterTypeInfos": [
  {
   "help": "",
   "name": "Raster Dataset",
   "description": "Supports all ArcGIS Raster Datasets"
  }
 ],
 "defaultResamplingMethod": "Bilinear",
 "itemAccess": false,
 "minScale": 0,
 "serviceProperties": "NorthWest<\/MosaicMethod>First<\/MosaicOperator>true<\/SortAscending><\/LockImageID>Name<\/TileOrderField>0<\/TileOrderBase>600.000000<\/AvgImageSpacingX>300.000000<\/AvgImageSpacingY>0.0<\/ViewPointX>0.0<\/ViewPointY>0.0<\/ViewPointDefShiftX>0.0<\/ViewPointDefShiftY>None<\/CompressionMethod>75<\/CompressionQuality>0.010000<\/CompressionTolerance>Bilinear<\/SamplingMethod><\/ImageServiceProperties><\/ImageServer>",
 "advancedQueryCapabilities": {
  "supportsStatistics": true,
  "supportsSqlExpression": true,
  "supportsOrderBy": true,
  "useStandardizedQueries": true,
  "supportsPagination": true,
  "supportsDistinct": true
 },
 "serviceItemId": "2718008b2bfd45699fd6848aa69461b9",
 "capabilities": "Image,Metadata,Mensuration,Catalog",
 "maxScale": 0,
 "stdvValues": [
  55.043192486046266,
  45.755443856368082,
  39.591900367820948
 ],
 "allowedFields": "Name,MinPS,MaxPS,LowPS,HighPS,Tag,GroupName,ProductName,CenterX,CenterY,ZOrder,Shape_Length,Shape_Area",
 "minPixelSize": 0,
 "sortAscending": true,
 "maxMosaicImageCount": 50,
 "inspectionCapabilities": "",
 "maxPixelSize": 0,
 "allowedCompressions": "None,JPEG,LZ77,LERC",
 "uncompressedSize": 2706760006470,
 "serviceDescription": "ImageServices/2021naip",
 "allowCopy": true,
 "copyrightText": "",
 "mensurationCapabilities": "NONE",
 "ownershipBasedAccessControlForRasters": null
}
